BEGIN:VCALENDAR
VERSION:2.0
PRODID:icalendar-ruby
CALSCALE:GREGORIAN
METHOD:PUBLISH
BEGIN:VEVENT
DTSTAMP:20260423T054834Z
UID:8-467018@millfieldlife.org
DTSTART:20260827T223000Z
DTEND:20260828T000000Z
CLASS:PUBLIC
CREATED:20260422T231651
DESCRIPTION:Mens Bible study has started back up! Join us at 6:30 p.m. for 
 some great food\, fellowship and spiritual growth. \nUpcoming gathering w
 ill be held at Millfield Church.\n 
LAST-MODIFIED:20260422T231651
LOCATION:
SUMMARY:Men's Gathering
URL;VALUE=URI:https://millfieldlife.org/events/mens-gathering/2026-08-27
ATTACH;FILENAME=Men%27s-Gathering.png;FMTTYPE=image/png:https://dq5pwpg1q8r
 u0.cloudfront.net/2025/09/28/21/13/25/d9b59579-fc78-4d57-b85e-33e1d5634b89
 /Men%2527s-Gathering.png
END:VEVENT
END:VCALENDAR
